BEGIN:VCALENDAR
VERSION:2.0
PRODID:-//Grote Kerk Steenwijk - ECPv6.15.20//NONSGML v1.0//EN
CALSCALE:GREGORIAN
METHOD:PUBLISH
X-WR-CALNAME:Grote Kerk Steenwijk
X-ORIGINAL-URL:https://grotekerksteenwijk.nl
X-WR-CALDESC:Evenementen voor Grote Kerk Steenwijk
REFRESH-INTERVAL;VALUE=DURATION:PT1H
X-Robots-Tag:noindex
X-PUBLISHED-TTL:PT1H
BEGIN:VTIMEZONE
TZID:Europe/Amsterdam
BEGIN:DAYLIGHT
TZOFFSETFROM:+0100
TZOFFSETTO:+0200
TZNAME:CEST
DTSTART:20240331T010000
END:DAYLIGHT
BEGIN:STANDARD
TZOFFSETFROM:+0200
TZOFFSETTO:+0100
TZNAME:CET
DTSTART:20241027T010000
END:STANDARD
BEGIN:DAYLIGHT
TZOFFSETFROM:+0100
TZOFFSETTO:+0200
TZNAME:CEST
DTSTART:20250330T010000
END:DAYLIGHT
BEGIN:STANDARD
TZOFFSETFROM:+0200
TZOFFSETTO:+0100
TZNAME:CET
DTSTART:20251026T010000
END:STANDARD
BEGIN:DAYLIGHT
TZOFFSETFROM:+0100
TZOFFSETTO:+0200
TZNAME:CEST
DTSTART:20260329T010000
END:DAYLIGHT
BEGIN:STANDARD
TZOFFSETFROM:+0200
TZOFFSETTO:+0100
TZNAME:CET
DTSTART:20261025T010000
END:STANDARD
END:VTIMEZONE
BEGIN:VEVENT
DTSTART;TZID=Europe/Amsterdam:20250906T190000
DTEND;TZID=Europe/Amsterdam:20250906T210000
DTSTAMP:20260425T191737
CREATED:20250825T190606Z
LAST-MODIFIED:20250825T191245Z
UID:987495244-1757185200-1757192400@grotekerksteenwijk.nl
SUMMARY:Expositie Kunst in de Kop 6 september 2025
DESCRIPTION:In de Grote of St. Clemenskerk komt de 15e editie van Kunst in de Kop tot leven. Twaalf kunstenaars uit de regio tonen hun werk rond het thema ‘Kunst & Leven’: van schilderijen en iconen tot keramiek\, glas\, beelden\, objecten en fotografie. \n\nDe expositie is gratis te bezoeken op:\n\n\nZaterdag 6 september (10.00 – 17.00 uur)\nZondag 7 september (12.00 – 17.00 uur)\nMeer info: Kopje cultuur
URL:https://grotekerksteenwijk.nl/event/expositie-kunst-in-de-kop-6-september-2025/
LOCATION:Grote Kerk Steenwijk\, Kerkstraat 22\, Steenwijk\, Overijssel\, 8331 JC\, Nederland
CATEGORIES:Cultuur
ATTACH;FMTTYPE=image/jpeg:https://grotekerksteenwijk.nl/wp-content/uploads/2025/08/Kunst-in-de-Kop-1.jpg
END:VEVENT
END:VCALENDAR